Workbook

Sheet Carbon Footprint Calculator
B2: Individual Carbon Footprint Calculator
B5: YOUR TOTAL CARBON FOOTPRINT
B7: =(E18+E25+E32+J15+J22+K25)/1000 -> 0
B9: tCO₂e
B11: Transport Type | C11: Distance per Week (km) | D11: Emission Factor (kg CO₂/km) | E11: Annual CO₂ Emissions (kg) | G11: Energy Source | H11: Monthly Use | I11: Emission Factor | J11: Annual CO₂ Emissions (kg)
B12: Bike (Petrol) | D12: =EF!D4 -> 0.065142857 | E12: =C12*D12*52 -> 0 | G12: Electricity (kWh) | I12: =EF!D21 -> 0.4371 | J12: =H12*I12*12 -> 0
B13: Threewheelers | D13: =EF!D8 -> 0.0912 | E13: =C13*D13*52 -> 0 | G13: LPG (kg) | I13: =EF!D22 -> 2.73 | J13: =H13*I13*12 -> 0
B14: Car (Petrol) | D14: =EF!D12 -> 0.19 | E14: =C14*D14*52 -> 0 | G14: Firewood (kg) | I14: =EF!D23 -> 1.51 | J14: =H14*I14*12 -> 0
B15: Car (Diesel) | D15: =EF!D16 -> 0.30444444 | E15: =C15*D15*52 -> 0 | J15: =SUM(J12:J14) -> 0
B16: Bus | D16: =EF!D18 -> 0.0152 | E16: =C16*D16*52 -> 0
B17: Train | D17: =EF!D19 -> 0.0079 | E17: =C17*D17*52 -> 0
E18: =SUM(E12:E17) -> 0 | G18: Consumption of goods | H18: Annual Spending (Rs) | I18: Emission Factor (kg CO₂/USD) | J18: CO₂ Emissions (kg)
G19: Clothes & Fashion | I19: =EF!D30 -> 0.163 | J19: =(H19*I19)/300 -> 0
B20: Diet Type | C20: Choose your diet and type 1 | D20: Emission Factor (kg CO₂/year) | E20: Annual CO₂ Emissions (kg) | G20: Electronics | I20: =EF!D31 -> 0.1 | J20: =(H20*I20)/300 -> 0
B21: Meat-heavy diet | D21: =EF!D25 -> 1600 | E21: =C21*D21 -> 0 | G21: Other Goods | I21: =EF!D32 -> 0.18 | J21: =(H21*I21)/300 -> 0
B22: Average diet | D22: =EF!D26 -> 1060 | E22: =C22*D22 -> 0 | J22: =SUM(J19:J21) -> 0
B23: Vegetarian | D23: =EF!D27 -> 867 | E23: =C23*D23 -> 0
B24: Vegan | D24: =EF!D28 -> 674 | E24: =C24*D24 -> 0 | G24: Water consumption | H24: Monthly consumption (m3) | I24: Emission Factor (kg CO₂/kwh) | J24: Emission Factor (kwh/m3) | K24: CO₂ Emissions (kg)
E25: =SUM(E21:E24) -> 0 | G25: Water consumption | I25: =EF!D21 -> 0.4371 | J25: 0.35 | K25: =H25*I25*J25 -> 0
B27: Waste | C27: kg per week | D27: Emission Factor (kg CO₂/week) | E27: Annual CO₂ Emissions (kg)
B28: Food waste (open dump) | D28: =EF!D34 -> 0.81 | E28: =C28*D28*52 -> 0
B29: Food waste (compost) | D29: =EF!D35 -> 0.174 | E29: =C29*D29*52 -> 0
B30: Paper | D30: =EF!D36 -> 2.16 | E30: =C30*D30*52 -> 0
B31: Textile | D31: =EF!D37 -> 1.3 | E31: =C31*D31*52 -> 0
E32: =SUM(E28:E31) -> 0

Sheet EF
C2: Bike average mileage | D2: 35 | E2: km/l
C3: Petrol combustion factor (SLSEA petrol EF) | D3: 2.28 | E3: kg CO₂/L
D4: =D3/D2 -> 0.065142857 | E4: kg CO₂/km
C6: Threewheel average mileage (Abeygunawardena et al. (2026)) | D6: 25 | E6: km/l
C7: Petrol combustion factor (SLSEA petrol EF) | D7: 2.28 | E7: kg CO₂/L
D8: =D7/D6 -> 0.0912 | E8: kg CO₂/km
C10: Car (petrol) average mileage (Jeyaratnasingam & Wickramarathna, SLEMA Journal, Vol. 22 No. 1, 2019 – Table 4) | D10: 12 | E10: km/l
C11: Petrol combustion factor (SLSEA petrol EF) | D11: 2.28 | E11: kg CO₂/L
D12: =D11/D10 -> 0.19 | E12: kg CO₂/km
C14: Car (diesel) average mileage (Jeyaratnasingam & Wickramarathna (2019), SLEMA Journal, Vol. 22(1)) | D14: 9 | E14: km/l
C15: Petrol combustion factor (Sri Lanka Sustainable Energy Authority (SLSEA)) | D15: 2.74 | E15: kg CO₂/L
D16: =D15/D14 -> 0.30444444 | E16: kg CO₂/km
C18: Bus (India GHG Program) 2015 | D18: 0.0152 | E18: kg CO₂/km
C19: Train (India GHG Program) 2015 | D19: 0.0079 | E19: kg CO₂/km
C21: Electricity emission factor (Sri Lanka Energy Balance Report 2022) | D21: 0.4371 | E21: kg CO₂/km
C22: LPG (SLSEA) | D22: 2.73 | E22: kg CO₂/km
C23: Firewood (kg) | D23: 1.51 | E23: kg CO₂/km
C25: Meat-heavy diet | D25: 1600 | E25: kg CO₂e/person/year | F25: Proxy estimate; no Sri Lanka-specific WWF “meat-heavy” scenario (https://planetbaseddiets.panda.org/national-impacts/sri-lanka)
C26: Average Sri Lankan diet | D26: 1060 | E26: kg CO₂e/person/year | F26: WWF current Sri Lankan diet
C27: Vegetarian | D27: 867 | E27: kg CO₂e/person/year | F27: WWF Sri Lanka vegetarian scenario
C28: Vegan | D28: 674 | E28: kg CO₂e/person/year | F28: WWF Sri Lanka vegan scenario
C30: Fashion / Clothing | D30: 0.163 | E30: kg CO₂e/USD spent | F30: Open CEDA 2025 – Sri Lanka, clothing & clothing accessories (https://www.climatiq.io/data/emission-factor/28705ea5-bdb1-8acb-8df1-4ac6f87cbffd?utm_source=chatgpt.com
C31: Electronics | D31: 0.1 | E31: kg CO₂e/USD spent | F31: Open CEDA 2025 – Sri Lanka, household appliances & electrical/electronic goods
C32: Other Goods | D32: 0.18 | E32: kg CO₂e/USD spent | F32: General consumer-goods proxy; use only where the specific product category is unknown
B34: Food | C34: Open dump | D34: 0.81 | E34: kg CO2/kg
B35: Food | C35: Compost | D35: 0.174 | E35: kg CO2/kg
B36: Paper | C36: Open dump | D36: 2.16 | E36: kg CO2/kg
B37: Textile – natural/degradable | C37: Open dump | D37: 1.3 | E37: kg CO2/kg
